BEGIN:VCALENDAR
VERSION:2.0
PRODID:-//Educators CU - ECPv6.15.20//NONSGML v1.0//EN
CALSCALE:GREGORIAN
METHOD:PUBLISH
X-WR-CALNAME:Educators CU
X-ORIGINAL-URL:https://www.ecu.com
X-WR-CALDESC:Events for Educators CU
REFRESH-INTERVAL;VALUE=DURATION:PT1H
X-Robots-Tag:noindex
X-PUBLISHED-TTL:PT1H
BEGIN:VTIMEZONE
TZID:America/Chicago
BEGIN:DAYLIGHT
TZOFFSETFROM:-0600
TZOFFSETTO:-0500
TZNAME:CDT
DTSTART:20260308T080000
END:DAYLIGHT
BEGIN:STANDARD
TZOFFSETFROM:-0500
TZOFFSETTO:-0600
TZNAME:CST
DTSTART:20261101T070000
END:STANDARD
BEGIN:DAYLIGHT
TZOFFSETFROM:-0600
TZOFFSETTO:-0500
TZNAME:CDT
DTSTART:20270314T080000
END:DAYLIGHT
BEGIN:STANDARD
TZOFFSETFROM:-0500
TZOFFSETTO:-0600
TZNAME:CST
DTSTART:20271107T070000
END:STANDARD
BEGIN:DAYLIGHT
TZOFFSETFROM:-0600
TZOFFSETTO:-0500
TZNAME:CDT
DTSTART:20280312T080000
END:DAYLIGHT
BEGIN:STANDARD
TZOFFSETFROM:-0500
TZOFFSETTO:-0600
TZNAME:CST
DTSTART:20281105T070000
END:STANDARD
END:VTIMEZONE
BEGIN:VEVENT
DTSTART;VALUE=DATE:20270101
DTEND;VALUE=DATE:20270102
DTSTAMP:20260425T061358
CREATED:20250116T165702Z
LAST-MODIFIED:20260107T154246Z
UID:21167-1798761600-1798847999@www.ecu.com
SUMMARY:New Year's Day 2027 – Educators Credit Union Closed
DESCRIPTION:All Educators Credit Union branches will be closed on Friday\, January 1st\, in recognition of New Year’s Day.
URL:https://www.ecu.com/event/new-years-day-2027-credit-union-closed/
CATEGORIES:Branch Closings
ATTACH;FMTTYPE=image/jpeg:https://www.ecu.com/files/nye-scaled.jpg
END:VEVENT
BEGIN:VEVENT
DTSTART;VALUE=DATE:20270102
DTEND;VALUE=DATE:20270103
DTSTAMP:20260425T061358
CREATED:20221104T183705Z
LAST-MODIFIED:20260107T154103Z
UID:19242-1798848000-1798934399@www.ecu.com
SUMMARY:New Years Day (Observation) - Educators Credit Union Closed
DESCRIPTION:All Educators Credit Union offices will be closed on Saturday\, January 2\, in recognition of New Year’s.
URL:https://www.ecu.com/event/new-years-day-observation-educators-credit-union-closed/
CATEGORIES:Branch Closings
END:VEVENT
END:VCALENDAR