BEGIN:VCALENDAR
VERSION:2.0
PRODID:-//Educators CU - ECPv6.15.20//NONSGML v1.0//EN
CALSCALE:GREGORIAN
METHOD:PUBLISH
X-ORIGINAL-URL:https://www.ecu.com
X-WR-CALDESC:Events for Educators CU
REFRESH-INTERVAL;VALUE=DURATION:PT1H
X-Robots-Tag:noindex
X-PUBLISHED-TTL:PT1H
BEGIN:VTIMEZONE
TZID:America/Chicago
BEGIN:DAYLIGHT
TZOFFSETFROM:-0600
TZOFFSETTO:-0500
TZNAME:CDT
DTSTART:20250309T080000
END:DAYLIGHT
BEGIN:STANDARD
TZOFFSETFROM:-0500
TZOFFSETTO:-0600
TZNAME:CST
DTSTART:20251102T070000
END:STANDARD
BEGIN:DAYLIGHT
TZOFFSETFROM:-0600
TZOFFSETTO:-0500
TZNAME:CDT
DTSTART:20260308T080000
END:DAYLIGHT
BEGIN:STANDARD
TZOFFSETFROM:-0500
TZOFFSETTO:-0600
TZNAME:CST
DTSTART:20261101T070000
END:STANDARD
BEGIN:DAYLIGHT
TZOFFSETFROM:-0600
TZOFFSETTO:-0500
TZNAME:CDT
DTSTART:20270314T080000
END:DAYLIGHT
BEGIN:STANDARD
TZOFFSETFROM:-0500
TZOFFSETTO:-0600
TZNAME:CST
DTSTART:20271107T070000
END:STANDARD
END:VTIMEZONE
BEGIN:VEVENT
DTSTART;VALUE=DATE:20261111
DTEND;VALUE=DATE:20261112
DTSTAMP:20260421T055747
CREATED:20250116T164829Z
LAST-MODIFIED:20260107T160227Z
UID:21162-1794355200-1794441599@www.ecu.com
SUMMARY:Veteran's Day – Educators Credit Union Closed
DESCRIPTION:All Educators Credit Union branches will be closed on Wednesday\, November 11th\, in recognition of Veterans’ Day.
URL:https://www.ecu.com/event/veterans-day-credit-union-closed/
CATEGORIES:Branch Closings
END:VEVENT
BEGIN:VEVENT
DTSTART;VALUE=DATE:20261126
DTEND;VALUE=DATE:20261127
DTSTAMP:20260421T055747
CREATED:20250116T165044Z
LAST-MODIFIED:20260107T155906Z
UID:21163-1795651200-1795737599@www.ecu.com
SUMMARY:Thanksgiving Day – Educators Credit Union Closed
DESCRIPTION:All Educators Credit Union branches will be closed on Thursday\, November 26th\, in recognition of Thanksgiving Day.
URL:https://www.ecu.com/event/thanksgiving-day-credit-union-closed/
CATEGORIES:Branch Closings
END:VEVENT
END:VCALENDAR